BEGIN:VCALENDAR
VERSION:2.0
PRODID:-//hacksw/handcal//NONSGML v1.0//EN
CALSCALE:GREGORIAN
BEGIN:VEVENT
LOCATION:NetNordic Denmark
DESCRIPTION:Velkommen til Netnordics seminar\, hvor vi dykker ned i fremtidens kontaktcenter med fokus på datadrevne løsninger og kunstig intelligens. Få indblik i nutidens muligheder\, fremtidsudsigter og de konkrete gevinster\, der kan opnås\, samt det arbejde\, der kræves for at implementere disse innovative teknologier. Vi ser frem til en dag med indsigt\, diskussion og inspiration omkring den datadrevne fremtid for kontaktcentre.
DTSTART:20240306T080000Z
DTEND:20240306T133000Z
SUMMARY:Det Datadrevne Kontaktcenter
URL;VALUE=URI:https://netnordicdenmark.dk/events/det-datadrevne-kontaktcenter/
DTSTAMP:20260420T101231Z
UID:69e5fc0f7fb74
END:VEVENT
END:VCALENDAR