BEGIN:VCALENDAR
VERSION:2.0
PRODID:-//hacksw/handcal//NONSGML v1.0//EN
CALSCALE:GREGORIAN
BEGIN:VEVENT
LOCATION:Webinar
DESCRIPTION:Når du forstår forskellen mellem Azure AI Foundry og Copilot Studio\, kan du vælge den rigtige platform til dit behov\, tilpasse den til dit teams kompetencer og udvikle AI-løsninger mere effektivt uden unødvendig kompleksitet\, omkostninger eller ekstra arbejde. Tilmeld dig webinaret for at få mere at vide!
DTSTART:20260429T130000Z
DTEND:20260429T134500Z
SUMMARY:Azure AI Foundry vs. Copilot Studio: Hvilket værktøj bør du vælge?
URL;VALUE=URI:https://netnordicdenmark.dk/events/azure-ai-foundry-vs-copilot-studio-hvilket-vaerktoj-bor-du-vaelge/
DTSTAMP:20260421T085204Z
UID:69e73ab44b567
END:VEVENT
END:VCALENDAR