BEGIN:VCALENDAR
VERSION:2.0
PRODID:-//hacksw/handcal//NONSGML v1.0//EN
CALSCALE:GREGORIAN
BEGIN:VEVENT
LOCATION:Fysisk
DESCRIPTION:Derfor må du ikke gå glip af AI-Native NOW i København! Få eksklusiv indsigt i fremtidens netværksteknologi\, mød branchens førende eksperter\, og oplev\, hvordan AI allerede skaber målbare resultater i virkeligheden. Det er din chance for at blive inspireret\, netværke med ligesindede og få viden\, du kan bruge med det samme.
DTSTART:20250923T093000Z
DTEND:20250923T150000Z
SUMMARY:Juniper AI-Native NOW
URL;VALUE=URI:https://netnordicdenmark.dk/events/juniper-ai-native-now/
DTSTAMP:20260426T041658Z
UID:69ed91ba30de9
END:VEVENT
END:VCALENDAR